BEGIN:VCALENDAR
VERSION:2.0
X-WR-TIMEZONE:Europe/Paris
PRODID:-//Audencia//NONSGML v1.0//EN
CALSCALE:GREGORIAN
BEGIN:VEVENT
SUMMARY:Afterwork Inter-Ecoles
DTSTART:20191003T183000
DTEND:20191003T223000
UID:234
DTSTAMP:20260425T210029
LOCATION:Puro Social Club
DESCRIPTION:Bonjour à tous,\n\nQui dit rentrée dit afterwork de rentrée. \n\nJe vous propose de tous nous retrouver pour un afterwork Inter-Écoles le 03 Octobre prochain au Puro. \n\nEn espérant vous y voir nombreux pour représenter la communauté Audencienne de Zürich. \n\nDate: jeudi 3 Octobre à partir de 18h30\nLieu: Puro | Fraumünsterstrasse 25 - 8001 Zürich\n \n\nMerci de vous inscrire pour confirmer votre présence à cet évènement. \n\nÀ bientôt, \nAntoine
BEGIN:VALARM
ACTION:DISPLAY
TRIGGER:-PT60M
DESCRIPTION:Afterwork Inter-Ecoles
END:VALARM
END:VEVENT
END:VCALENDAR