BEGIN:VCALENDAR
VERSION:2.0
X-WR-TIMEZONE:Europe/Paris
PRODID:-//Audencia//NONSGML v1.0//EN
CALSCALE:GREGORIAN
BEGIN:VEVENT
SUMMARY:Back to school afterwork!
DTSTART:20190906T183000
DTEND:20190906T220000
UID:233
DTSTAMP:20260425T205705
LOCATION:ChaChaCha 2327 Mission St., San Francisco
DESCRIPTION:Let's get together on September 6th!\nChaChaCha restaurant\nfrom 6:30PM.\nSee you\n 
BEGIN:VALARM
ACTION:DISPLAY
TRIGGER:-PT60M
DESCRIPTION:Back to school afterwork!
END:VALARM
END:VEVENT
END:VCALENDAR