BEGIN:VCALENDAR
VERSION:2.0
X-WR-TIMEZONE:Europe/Paris
PRODID:-//Audencia//NONSGML v1.0//EN
CALSCALE:GREGORIAN
BEGIN:VEVENT
SUMMARY:Afterwork de rentrée
DTSTART:20190912T180000
DTEND:20190912T235900
UID:232
DTSTAMP:20260425T223651
LOCATION:Bateau Genève Quai Gustave-Ador 1, 1207 Genève
DESCRIPTION:Nous vous proposons un Afterwork de rentrée au Bateau de Genève - Quai Gustave Ador 1, le jeudi 12 septembre à partir de 18h!\n\nAu plaisir de vous voir nombreux.\n\nMélanie et Sandrine
BEGIN:VALARM
ACTION:DISPLAY
TRIGGER:-PT60M
DESCRIPTION:Afterwork de rentrée
END:VALARM
END:VEVENT
END:VCALENDAR