BEGIN:VCALENDAR
VERSION:2.0
X-WR-TIMEZONE:Europe/Paris
PRODID:-//Audencia//NONSGML v1.0//EN
CALSCALE:GREGORIAN
BEGIN:VEVENT
SUMMARY:Afterwork d'automne avec Uwe Supper
DTSTART:20191016T183000
DTEND:20191016T220000
UID:231
DTSTAMP:20260425T205715
LOCATION:Munich (lieu annoncé plus tard)
DESCRIPTION:Bonjour à tous, \ntradition annuelle oblige, Uwe Supper sera de passage à Munich mi-octobre et je vous propose de nous retrouver autour d' un verre pour un afterwork d'automne. Le lieu sera annoncé ultérieurement.\n\nInscrivez-vous vite pour que je puisse réserver les tables.\n\nMerci de faire passer le mot aux nouveaux arrivants, stagiaires et ceux qui n'auraient pas vu l'événement Together !\n\nA bientôt,\nAmandine
BEGIN:VALARM
ACTION:DISPLAY
TRIGGER:-PT60M
DESCRIPTION:Afterwork d'automne avec Uwe Supper
END:VALARM
END:VEVENT
END:VCALENDAR