BEGIN:VCALENDAR
VERSION:2.0
X-WR-TIMEZONE:Europe/Paris
PRODID:-//Audencia//NONSGML v1.0//EN
CALSCALE:GREGORIAN
BEGIN:VEVENT
SUMMARY:Audencia Summer Drinks
DTSTART:20190828T180000
DTEND:20190828T200000
UID:230
DTSTAMP:20260425T205907
LOCATION:The Culpeper, 40 Commercial Street, Spitalfields, London E1 6LP
DESCRIPTION:Let's enjoy the last day of the summer and meet at the Culpeper - hopefully the weather will be good enough to enjoy the rooftop garden! We will reminisce about the holidays and discuss how we look forward the 'rentrée des classes'...\nSee you very soon. \nAmicalement vôtre,\nTristan
BEGIN:VALARM
ACTION:DISPLAY
TRIGGER:-PT60M
DESCRIPTION:Audencia Summer Drinks
END:VALARM
END:VEVENT
END:VCALENDAR