BEGIN:VCALENDAR
VERSION:2.0
X-WR-TIMEZONE:Europe/Paris
PRODID:-//Audencia//NONSGML v1.0//EN
CALSCALE:GREGORIAN
BEGIN:VEVENT
SUMMARY:Afterwork d'été - Burgers au Hans im Glück
DTSTART:20190806T190000
DTEND:20190806T220000
UID:229
DTSTAMP:20260425T205728
LOCATION:Munich,  Luisenstraße 14, 80333 München
DESCRIPTION:Bonjour à tous et toutes,\n\ncette fois-ci, retrouvons-nous au Hans im Glück à Königsplatz pour une soirée burgers.\n\nInscrivez-vous vite et faites passer le mot aux nouveaux arrivants!\n\nA bientôt,\nAmandine
BEGIN:VALARM
ACTION:DISPLAY
TRIGGER:-PT60M
DESCRIPTION:Afterwork d'été - Burgers au Hans im Glück
END:VALARM
END:VEVENT
END:VCALENDAR