BEGIN:VCALENDAR
VERSION:2.0
X-WR-TIMEZONE:Europe/Paris
PRODID:-//Audencia//NONSGML v1.0//EN
CALSCALE:GREGORIAN
BEGIN:VEVENT
SUMMARY:Apéro nouveaux - Pétanque Borrel
DTSTART:20190717T180000
DTEND:20190717T220000
UID:228
DTSTAMP:20260425T205851
LOCATION:Brasserie Nel Amstelveld 12, 1017 JD Amsterdam
DESCRIPTION:Apéro Nouveaux\nGoede middag!\nWe have welcomed many new joiners to the Audencia Alumni Nederland group, and we would be happy to meet you all in person:\n\n	next Wednesday 17 July\n	starting at 18:00\n	@Brasserie Nel https://goo.gl/maps/uRptZNHNCrsvHWYw7\n\nAnd for those of you who want to celebrate their French roots a few days after "Bastille day": there's even a pétanque pitch!\n\nTell us if you can join
BEGIN:VALARM
ACTION:DISPLAY
TRIGGER:-PT60M
DESCRIPTION:Apéro nouveaux - Pétanque Borrel
END:VALARM
END:VEVENT
END:VCALENDAR