BEGIN:VCALENDAR
VERSION:2.0
X-WR-TIMEZONE:Europe/Paris
PRODID:-//Audencia//NONSGML v1.0//EN
CALSCALE:GREGORIAN
BEGIN:VEVENT
SUMMARY:Beer tasting with a Beer Sommelier in Amsterdam
DTSTART:20190919T190000
DTEND:20190919T230000
UID:227
DTSTAMP:20260425T205856
LOCATION:Westeinde 16, 1017 ZP Amsterdam
DESCRIPTION:Join us for a special beer tasting with beer sommelier Nathan Hak.\n\nNathan will tell us all about beer, its history, the different beer styles, how to taste them, etc.\nBeing a StiBON-Doemens international Beer Sommelier and working as a journalist for the beer webshop www.beerwulf.com, he knows a lot and will be happy to answer all the questions you ever had about beer!\n\nThe event will take place on the Thursday 19th of September, at 19:00.\nWe ask for a contribution of 10€ per person for this event in order to provide the beers and some food for the tasting (5€ for those who got their diploma in 2017 or after).\nTo participate, please fill in this form and transfer the money before 04/09/2019 (bank details on the form).\nDepending on the number of participants, the event will probably take place at the office of www.beerwulf.com\n\nNathan Hak's Instagram account: https://www.instagram.com/beers_with_nathan/
BEGIN:VALARM
ACTION:DISPLAY
TRIGGER:-PT60M
DESCRIPTION:Beer tasting with a Beer Sommelier in Amsterdam
END:VALARM
END:VEVENT
END:VCALENDAR