BEGIN:VCALENDAR
VERSION:2.0
X-WR-TIMEZONE:Europe/Paris
PRODID:-//Audencia//NONSGML v1.0//EN
CALSCALE:GREGORIAN
BEGIN:VEVENT
SUMMARY:September afterwork in Dubai
DTSTART:20190917T190000
DTEND:20190917T220000
UID:226
DTSTAMP:20260425T210006
LOCATION:Chez Charles - Dubai Design District
DESCRIPTION:Dear all,\n\nLet's take this opportunity to meet (again!) and gather our Dubai experience
BEGIN:VALARM
ACTION:DISPLAY
TRIGGER:-PT60M
DESCRIPTION:September afterwork in Dubai
END:VALARM
END:VEVENT
END:VCALENDAR