BEGIN:VCALENDAR
VERSION:2.0
X-WR-TIMEZONE:Europe/Paris
PRODID:-//Audencia//NONSGML v1.0//EN
CALSCALE:GREGORIAN
BEGIN:VEVENT
SUMMARY:MiniGolf together!
DTSTART:20190613T183000
DTEND:20190613T230000
UID:223
DTSTAMP:20260425T205839
LOCATION:San Francisco
DESCRIPTION:Hello,\nLet's get together for a fun mini golf party followed with a dinner in San Francisco!\nFlavie Lorre, President of the Audencia Alumni association is visiting and would love to meet with us.\nJoin us on June 13th!\n\nMini golf\nSubpar Miniature Golf\n900 North Point SF, #F-201, San Francisco\n\nDinner at 8:30PM (Reservation Lucy)\nThe Pub\n851 Beach St., San Francisco
BEGIN:VALARM
ACTION:DISPLAY
TRIGGER:-PT60M
DESCRIPTION:MiniGolf together!
END:VALARM
END:VEVENT
END:VCALENDAR