BEGIN:VCALENDAR
VERSION:2.0
X-WR-TIMEZONE:Europe/Paris
PRODID:-//Audencia//NONSGML v1.0//EN
CALSCALE:GREGORIAN
BEGIN:VEVENT
SUMMARY:Welcome Back 2019 - La soirée des diplômés !
DTSTART:20191129T190000
DTEND:20191129T230000
UID:222
DTSTAMP:20260425T205908
LOCATION:Audencia Bachelors, 4 rue Bisson, 44100 Nantes
DESCRIPTION:Pour la 8ème année consécutive, le réseau Audencia Bachelor Network organise la Welcome Back.\n\nUn moment convivial dédié à tous les diplômés de l'EGC, de l'IPAC, de l'EAC et d'Audencia Bachelor.\n\nCelle-ci se déroulera le Vendredi 29 Novembre à partir de 19h. Nous vous attendons nombreux. Inscrivez vous vite à l'événement via Together et/ou Facebook.\n\nPlus d'informations à venir...
BEGIN:VALARM
ACTION:DISPLAY
TRIGGER:-PT60M
DESCRIPTION:Welcome Back 2019 - La soirée des diplômés !
END:VALARM
END:VEVENT
END:VCALENDAR