BEGIN:VCALENDAR
VERSION:2.0
X-WR-TIMEZONE:Europe/Paris
PRODID:-//Audencia//NONSGML v1.0//EN
CALSCALE:GREGORIAN
BEGIN:VEVENT
SUMMARY:Afterwork Audencia Alumni London
DTSTART:20190627T190000
DTEND:20190627T210000
UID:220
DTSTAMP:20260425T205857
LOCATION:Hoop & Toy, 34 Thurloe Place, Kensington, London SW7 2HQ
DESCRIPTION:Hello,\n\nLet's kick off the Summer by meeting on Thursday 27 June to have a chat and a few drinks at the Hoop & Toy in South Kensington!\n\nÀ très bientôt,\nTristan
BEGIN:VALARM
ACTION:DISPLAY
TRIGGER:-PT60M
DESCRIPTION:Afterwork Audencia Alumni London
END:VALARM
END:VEVENT
END:VCALENDAR