BEGIN:VCALENDAR
VERSION:2.0
X-WR-TIMEZONE:Europe/Paris
PRODID:-//Audencia//NONSGML v1.0//EN
CALSCALE:GREGORIAN
BEGIN:VEVENT
SUMMARY:Afterwork du printemps!
DTSTART:20170419T190000
DTEND:20170419T230000
UID:22
DTSTAMP:20260425T223839
LOCATION:Bar à vin L'Ivress, 5 rue Poissonnière, 75002 Paris
DESCRIPTION:Ca fait déjà un petit moment depuis les bonnes résolutions de Janvier ! \nOn vous propose de profiter d'un petit verre pour rattraper le temps perdu, fêter le printemps, rencontrer de nouvelles têtes !
BEGIN:VALARM
ACTION:DISPLAY
TRIGGER:-PT60M
DESCRIPTION:Afterwork du printemps!
END:VALARM
END:VEVENT
END:VCALENDAR