BEGIN:VCALENDAR
VERSION:2.0
X-WR-TIMEZONE:Europe/Paris
PRODID:-//Audencia//NONSGML v1.0//EN
CALSCALE:GREGORIAN
BEGIN:VEVENT
SUMMARY:Borrel & Pub Quizz in Amsterdam
DTSTART:20190604T190000
DTEND:20190604T230000
UID:219
DTSTAMP:20260425T205905
LOCATION:Café Lust, Cornelis Trooststraat 49I, 1072 JC Amsterdam
DESCRIPTION:Hey guys,\n\nLet's meet next Tuesday 4th of June for a Pub Quizz (in English) at the Café Lust! The winners get a bottle of sparkling wine, the losers loempias ;)\n\nSee you at 19h, Cornelis Trooststraat 49I, 1072 JC Amsterdam\n\nCheers!
BEGIN:VALARM
ACTION:DISPLAY
TRIGGER:-PT60M
DESCRIPTION:Borrel & Pub Quizz in Amsterdam
END:VALARM
END:VEVENT
END:VCALENDAR