BEGIN:VCALENDAR
VERSION:2.0
X-WR-TIMEZONE:Europe/Paris
PRODID:-//Audencia//NONSGML v1.0//EN
CALSCALE:GREGORIAN
BEGIN:VEVENT
SUMMARY:Lille - Afterwork 10
DTSTART:20190619T191000
DTEND:20190619T230000
UID:218
DTSTAMP:20260425T205813
LOCATION:Lille
DESCRIPTION:Bonjour à tous, \n\nLe prochain Afterwork des Alumni de Lille aura lieu le mercredi 19 juin. \n\nLa première partie de la soirée sera un Lancer de Haches aux Cognées à Lille, RDV 19h15. Pour les plus sceptiques, je ne me sens pas non plus l'âme d'une bucheronne mais c'est une expérience à tester. Allez, on se lance ! A savoir, le coût minimum de l'activité est de 18 euros par personne. En effet, une cible convient pour 3 personnes maximum = 54 euros. Il faudrait donc dans l'idéal que nous soyons : 3, 6, 9 ou 12 personnes.\nJe vais avancer les frais c'est pourquoi je vous demande de bien vouloir remplir le Doodle ci-dessous (c'est le dernier ;-)). \n\nhttps://doodle.com/poll/hmstdutye9p3t8rq\n\nLa suite de la soirée se fera au bar Les Chineurs (35 Rue des Bouchers) avec divers grignotages vers 20h30.\nCela nous permettra de nous réunir autour d'un verre et d'échanger sur nos expériences de diplômés ou d'étudiants Audencia.\n\nLes lieux :\n\n19h15 : Les Cognées, 40 Boulevard Carnot, 59800 Lille\n\n20h30 : Bar Les Chineurs avec planches\n\nSi vous ne souhaitez pas faire le lancer de haches, il y a donc toujours possibilité de venir à 20h30.  \n\nMargot Soulier - 06.72.48.11.10
BEGIN:VALARM
ACTION:DISPLAY
TRIGGER:-PT60M
DESCRIPTION:Lille - Afterwork 10
END:VALARM
END:VEVENT
END:VCALENDAR