BEGIN:VCALENDAR
VERSION:2.0
X-WR-TIMEZONE:Europe/Paris
PRODID:-//Audencia//NONSGML v1.0//EN
CALSCALE:GREGORIAN
BEGIN:VEVENT
SUMMARY:Explore after Dark!
DTSTART:20190530T183000
DTEND:20190530T220000
UID:217
DTSTAMP:20260425T205815
LOCATION:Exploratorium Pier 15 (Embarcadero @ Green St.) San Francisco, CA 94111
DESCRIPTION:Let's get together at the Exploratorium and have fun with the 'After Dark' session!\nPier 15\n(Embarcadero @ Green St.)\nSan Francisco, CA 94111\nLet's meet at 6:30PM at the entrance.\n\nIdeally purchase your ticket online in advance.\nhttps://www.exploratorium.edu/visit/calendar/after-dark#\n 
BEGIN:VALARM
ACTION:DISPLAY
TRIGGER:-PT60M
DESCRIPTION:Explore after Dark!
END:VALARM
END:VEVENT
END:VCALENDAR