BEGIN:VCALENDAR
VERSION:2.0
X-WR-TIMEZONE:Europe/Paris
PRODID:-//Audencia//NONSGML v1.0//EN
CALSCALE:GREGORIAN
BEGIN:VEVENT
SUMMARY:1er Apéro inter Grandes Ecoles
DTSTART:20190613T190000
DTEND:20190613T210000
UID:216
DTSTAMP:20260425T205838
LOCATION:Changement de lieu : Les Halles de Bacalan  10, quai de Bacalan  33000 Bordeaux
DESCRIPTION:Inscription GRATUITE sur le site de KEDGE BS Alumni : https://www.kedgebs-alumni.com/fr/diplome/agenda/2726/identification\n\n\nBonjour,\n\nSuite aux succès rencontrés lors des 4 premières éditions de la soirée inter réseaux grandes écoles, nous avons trouvé dommage de vous faire attendre mars 2020 pour vous permettre de vous retrouver lors de la soirée annuelle.\n\nDe ce fait, nous avons décidé de mettre en place un nouveau rendez-vous trimestriel : les afterworks inter grandes écoles.\n\nNous vous proposons de vous retrouver lors de notre\n\n1er AFTERWORK INTER GRANDES ECOLES\n\nqui aura lieu le jeudi 13 juin 2019 à partir de 19h00, au restaurant "Les Chantiers de la Garonne, 21 quai de Queyries à Bordeaux.\n\nUn super moment pour échanger et réseauter entre alumni face au coucher de soleil sur la ville de Bordeaux.\n 
BEGIN:VALARM
ACTION:DISPLAY
TRIGGER:-PT60M
DESCRIPTION:1er Apéro inter Grandes Ecoles
END:VALARM
END:VEVENT
END:VCALENDAR