BEGIN:VCALENDAR
VERSION:2.0
X-WR-TIMEZONE:Europe/Paris
PRODID:-//Audencia//NONSGML v1.0//EN
CALSCALE:GREGORIAN
BEGIN:VEVENT
SUMMARY:Afterwork Audencia London 30 April
DTSTART:20190430T190000
DTEND:20190430T210000
UID:215
DTSTAMP:20260425T205952
LOCATION:Baranis, 115 Chancery Ln, London WC2A 1PP
DESCRIPTION:Hello!\n\nBuilding on the huge success of our Around the World event a few weeks ago, let's meet for a few drinks on Tuesday 30 April at the very cool Baranis - which has a very distinctful Southern vibe - on Chancery Lane to exchange on our experience in London and make new friends.\n\nFor the most nostalgic and southerners of us, you can have pastis and there is a pétanque court.\n\nSee you all very soon.\n\nBien à vous\n\nTristan Pelloux
BEGIN:VALARM
ACTION:DISPLAY
TRIGGER:-PT60M
DESCRIPTION:Afterwork Audencia London 30 April
END:VALARM
END:VEVENT
END:VCALENDAR