BEGIN:VCALENDAR
VERSION:2.0
X-WR-TIMEZONE:Europe/Paris
PRODID:-//Audencia//NONSGML v1.0//EN
CALSCALE:GREGORIAN
BEGIN:VEVENT
SUMMARY:Afterwork avril 2019 - Biergarten/Restaurant
DTSTART:20190426T180000
DTEND:20190426T210000
UID:214
DTSTAMP:20260425T210011
LOCATION:Tassilogarten (https://www.tassilogarten.de), Auerfeldstraße 18, 81541 München
DESCRIPTION:Bonjour, \nle prochain afterwork aura lieu pour une fois un vendredi, dans le quartier Au-Haidhausen, très certainement au Tassilo Garten qui a un joli Biergarten et des tables en intérieur.\n\nInscrivez-vous vite pour que je puisse réserver.\nA bientôt,\nAmandine
BEGIN:VALARM
ACTION:DISPLAY
TRIGGER:-PT60M
DESCRIPTION:Afterwork avril 2019 - Biergarten/Restaurant
END:VALARM
END:VEVENT
END:VCALENDAR