BEGIN:VCALENDAR
VERSION:2.0
X-WR-TIMEZONE:Europe/Paris
PRODID:-//Audencia//NONSGML v1.0//EN
CALSCALE:GREGORIAN
BEGIN:VEVENT
SUMMARY:Apéro de printemps le 10 avril à Lausanne avec GEM Alumni
DTSTART:20190410T183000
DTEND:20190410T210000
UID:213
DTSTAMP:20260425T205900
LOCATION:Lausanne, Suisse
DESCRIPTION:Bonjour à tous.\n\nGEM Alumni LAUSANNE nous invite à partager leur apéro de printemps au bord du lac:\n\nLe Lacustre\nQuai Jean-Pascal Delamuraz 1\nLausanne Ouchy\nINSCRIPTIONS, non obligatoires: https://lnkd.in/egHd9_P\nVotre contact pour cet évenement est Nicolas Demiaux de GEM sur Linkedin ou au 076 219 07 23.\n\nBon réseautage!\n \n\n 
BEGIN:VALARM
ACTION:DISPLAY
TRIGGER:-PT60M
DESCRIPTION:Apéro de printemps le 10 avril à Lausanne avec GEM Alumni
END:VALARM
END:VEVENT
END:VCALENDAR