BEGIN:VCALENDAR
VERSION:2.0
X-WR-TIMEZONE:Europe/Paris
PRODID:-//Audencia//NONSGML v1.0//EN
CALSCALE:GREGORIAN
BEGIN:VEVENT
SUMMARY:Diner au Wok
DTSTART:20190423T200000
DTEND:20190423T230000
UID:212
DTSTAMP:20260425T205904
LOCATION:301 Rue de Fougères, 35700 Rennes
DESCRIPTION:Bonjour à tous, Je vous propose de nous retrouver au WOK Rue de Fougères à partir de 20h le mardi 23 avril! Cela fait plus d'un an et demi que nous ne nous sommes pas retrouvés et cela sera donc l'occasion de prendre des nouvelles!
BEGIN:VALARM
ACTION:DISPLAY
TRIGGER:-PT60M
DESCRIPTION:Diner au Wok
END:VALARM
END:VEVENT
END:VCALENDAR