BEGIN:VCALENDAR
VERSION:2.0
X-WR-TIMEZONE:Europe/Paris
PRODID:-//Audencia//NONSGML v1.0//EN
CALSCALE:GREGORIAN
BEGIN:VEVENT
SUMMARY:Lille - Afterwork 9
DTSTART:20190410T194500
DTEND:20190410T220000
UID:211
DTSTAMP:20260425T205846
LOCATION:Kolor Bar 114 rue de saint André 59800 Lille
DESCRIPTION:Chers Alumni de Lille,\n\nRetrouvons nous autour d'un verre, de planches apéritives et d'un blind test musical mercredi 10 avril prochain (début du blind test 20h30). Les plus motivés d'entres vous pourront continuer plus tard la soirée en se testant au karaoké... \nC'est aussi l'occasion de partager nos expériences et projets. \n\nC'est dans moins d'1 mois, j'espère que cela vous laisse assez de temps pour vous organiser et trouver un créneau dans votre agenda.\n\nPensez à vous inscrire !  (je réserve une table ou 2... ou 3 ???)\n\nEn cas de désistement de dernière minute, merci de me prévenir au 06 72 48 11 10 (what's app group ou SMS)\n\nMargot Soulier
BEGIN:VALARM
ACTION:DISPLAY
TRIGGER:-PT60M
DESCRIPTION:Lille - Afterwork 9
END:VALARM
END:VEVENT
END:VCALENDAR