BEGIN:VCALENDAR
VERSION:2.0
X-WR-TIMEZONE:Europe/Paris
PRODID:-//Audencia//NONSGML v1.0//EN
CALSCALE:GREGORIAN
BEGIN:VEVENT
SUMMARY:Company Visit (12th Mar 2019)- Neovia
DTSTART:20190312T073000
DTEND:20190312T163000
UID:210
DTSTAMP:20260425T205736
LOCATION:Nantes
DESCRIPTION:Agenda:\n \n\n	\n		\n			7h30\n			Gather at Audencia hall (in front of the reception)\n		\n		\n			9h00 - 10h\n			Visit of We'NOV\n		\n		\n			10h - 11h\n			Presentation of NEOVIA\n		\n		\n			11h00 - 12h00\n			Presentation “Ferme du Futur”\n		\n		\n			12h30 - 14h00\n			LUNCH\n		\n		\n			14h00 - 14h30\n			Presentation of Digital\n		\n		\n			14h30 - 15h00\n			Design Labs\n		\n		\n			15h00 - 16h\n			Presentation of Marketing corporate\n		\n		\n			16h - 16h30\n			Debrief - questions (HR aspect)\n		\n	\n
BEGIN:VALARM
ACTION:DISPLAY
TRIGGER:-PT60M
DESCRIPTION:Company Visit (12th Mar 2019)- Neovia
END:VALARM
END:VEVENT
END:VCALENDAR