BEGIN:VCALENDAR
VERSION:2.0
X-WR-TIMEZONE:Europe/Paris
PRODID:-//Audencia//NONSGML v1.0//EN
CALSCALE:GREGORIAN
BEGIN:VEVENT
SUMMARY:chapter Lyon - soirée Alumni
DTSTART:20170420T200000
DTEND:20170420T230000
UID:21
DTSTAMP:20260425T205716
LOCATION:L'envers des pentes 112 Montée de la Grande-Côte, 69001 Lyon Métro Hôtel de ville.
DESCRIPTION:Chers tous,\n\nA vos agendas pour le prochain rdv Audencia Alumni du Chapter Rhône-Alpes : jeudi 20 avril, à partir de 20h, à l'Envers des Pentes\n\n112 Montée de la Grande-Côte, 69001 Lyon\n\nMétro Hôtel de ville.\n\nFormule libre.\n\n \n\nA bientôt donc, et merci de vos confirmations de présence !\n\n \n\nPaul Pinlon\n\nGE 2009
BEGIN:VALARM
ACTION:DISPLAY
TRIGGER:-PT60M
DESCRIPTION:chapter Lyon - soirée Alumni
END:VALARM
END:VEVENT
END:VCALENDAR