BEGIN:VCALENDAR
VERSION:2.0
X-WR-TIMEZONE:Europe/Paris
PRODID:-//Audencia//NONSGML v1.0//EN
CALSCALE:GREGORIAN
BEGIN:VEVENT
SUMMARY:Chapter Lyon - Futsal (2ème tentative)
DTSTART:20190313T193000
DTEND:20190313T203000
UID:209
DTSTAMP:20260425T205815
LOCATION:We Are Sport 221 Avenue Francis de Pressensé, 69200 Vénissieux
DESCRIPTION:Salut,\n\nNouvelle tentative pour organiser un Futsal. On cherche 4 joueurs !\n\nCa se passe le mercredi 13 mars de 19h30 à 20h30 à We Are Sport :\n221 Avenue Francis de Pressensé, 69200 Vénissieux.\n\nSi vous êtes intéressés, envoyez-moi un email sur miyou.mana@gmail.com et je vous rajoute dans la boucle.\n\nBonne soirée\n\nMana
BEGIN:VALARM
ACTION:DISPLAY
TRIGGER:-PT60M
DESCRIPTION:Chapter Lyon - Futsal (2ème tentative)
END:VALARM
END:VEVENT
END:VCALENDAR