BEGIN:VCALENDAR
VERSION:2.0
X-WR-TIMEZONE:Europe/Paris
PRODID:-//Audencia//NONSGML v1.0//EN
CALSCALE:GREGORIAN
BEGIN:VEVENT
SUMMARY:Alumni & Master FRC (Finance, Risk & Control) students networking event in London
DTSTART:20190311T180000
DTEND:20190311T210000
UID:207
DTSTAMP:20260425T205733
LOCATION:Bar Kick, 127 Shoreditch High Street, E1 6JE
DESCRIPTION:Come and pitch your role, company and international experience to a group of Audencia students from the Specialised Master in Finance, Risk and Control during their learning trip to London.\n\nJoin the networking evening at the Bar Kick (127 Shoreditch High Street, E1 6JE) from 18:00 to 21:00 on Monday 11 March.
BEGIN:VALARM
ACTION:DISPLAY
TRIGGER:-PT60M
DESCRIPTION:Alumni & Master FRC (Finance, Risk & Control) students networking event in London
END:VALARM
END:VEVENT
END:VCALENDAR