BEGIN:VCALENDAR
VERSION:2.0
X-WR-TIMEZONE:Europe/Paris
PRODID:-//Audencia//NONSGML v1.0//EN
CALSCALE:GREGORIAN
BEGIN:VEVENT
SUMMARY:Afterwork à Lausanne, changement de date, rendez-vous le 13 mars!
DTSTART:20190313T183000
DTEND:20190313T235900
UID:206
DTSTAMP:20260425T205838
LOCATION:Nomade - Place de l'Europe, 9  - Lausanne
DESCRIPTION:L'équipe lausannoise vous propose un afterwork de fin d'hiver le 13 mars dès 18.30.\n\nRendez-vous au Nomade, Place de l'Europe 9, 1003 Lausanne.\n\n\nFacilement atteignable pour tous, ce bar est situé au début du Flon, juste à coté du métro Flon, à 1 station de la gare de Lausanne.\n\nVenez nombreux, nous nous réjouissons d'échanger autour d'un verre.\n\nCarole Levanti\nJean Romain Falconnet\nNicolas Relin
BEGIN:VALARM
ACTION:DISPLAY
TRIGGER:-PT60M
DESCRIPTION:Afterwork à Lausanne, changement de date, rendez-vous le 13 mars!
END:VALARM
END:VEVENT
END:VCALENDAR