BEGIN:VCALENDAR
VERSION:2.0
X-WR-TIMEZONE:Europe/Paris
PRODID:-//Audencia//NONSGML v1.0//EN
CALSCALE:GREGORIAN
BEGIN:VEVENT
SUMMARY:ANNULE - Chapter Lyon - Futsal le lundi 04 mars !
DTSTART:20190304T190000
DTEND:20190304T200000
UID:205
DTSTAMP:20260425T205717
LOCATION:Lyon
DESCRIPTION:///// En raison d’un faible taux de participation, cet événement est annulé /////\n\n\nSalut tout le monde,\n\nNous organisons un futsal le lundi 04 mars à 19h !\nLe lieu reste à décider.\n\nIl faut au minimum 10 personnes.\nSi on n'est pas assez, on ouvrira les inscriptions au non Audencien.\nJe vous enverrai alors une invitation Google Calendar.\nDu coup, envoyer-moi un email rapide sur miyou.mana@gmail.com si vous vous inscrivez.\n\nA bientôt !\n\nMana\n06 78 31 73 64
BEGIN:VALARM
ACTION:DISPLAY
TRIGGER:-PT60M
DESCRIPTION:ANNULE - Chapter Lyon - Futsal le lundi 04 mars !
END:VALARM
END:VEVENT
END:VCALENDAR