BEGIN:VCALENDAR
VERSION:2.0
X-WR-TIMEZONE:Europe/Paris
PRODID:-//Audencia//NONSGML v1.0//EN
CALSCALE:GREGORIAN
BEGIN:VEVENT
SUMMARY:Conférence C&M : Culture et valeur durable ?
DTSTART:20190220T190000
DTEND:20190220T213000
UID:204
DTSTAMP:20260425T205953
LOCATION:Fondation d'entreprise Ricard  12 Rue Boissy d'Anglas, 75008 Paris
DESCRIPTION:Comment la création de valeur est-elle partagée par les artistes, les employés, les publics et les investisseurs?\n\nLe secteur culturel crée-t-il une valeur durable et positive dans nos sociétés ?\n\nLes débats actuels admettent que les créateurs, producteurs et distributeurs de contenus émettent une empreinte cérébrale. A l'instar de l'empreinte carbone sur l'environnement, ce sont ici les esprits, la capacité cognitive et critique ainsi que le lien social qui peuvent être impactés.\nDepuis peu, les agences de notation financière interviennent dans le débat. Le marketing et la communication intègrent la durabilité des actions culturelles dans leur approche.\nCes points jouent également sur l'attractivité des entreprises pour les candidats.\n\n\n	Qu'est-ce que la notion de création de valeur durable dans la culture ?\n	Comment intervient-elle dans les modèles économiques ?\n	Comment la création de valeur est-elle partagée par les artistes, les employés, les publics, les investisseurs,...?\n	Quelles retombées cette RSE peut-elle avoir sur le développement des territoires, le soft power ou le dialogue interculturel, notamment dans les pays de l'UE ?\n\n\nRéservez sur : https://www.culture-et-management.com/debats/la_culture_generatrice_de_valeur_durable.html\n 
BEGIN:VALARM
ACTION:DISPLAY
TRIGGER:-PT60M
DESCRIPTION:Conférence C&M : Culture et valeur durable ?
END:VALARM
END:VEVENT
END:VCALENDAR