BEGIN:VCALENDAR
VERSION:2.0
X-WR-TIMEZONE:Europe/Paris
PRODID:-//Audencia//NONSGML v1.0//EN
CALSCALE:GREGORIAN
BEGIN:VEVENT
SUMMARY:Afterwork de rentrée - Chapter Zürich
DTSTART:20190227T190000
DTEND:20190228T000000
UID:202
DTSTAMP:20260425T205820
LOCATION:Gainsbourg Kreuzstrasse 26,  8008 Zürich
DESCRIPTION:Bonjour à tous, \n\nAprès de nombreux mois d'absence, les afterworks du Chapter Zürich sont de retour. \n\nJe vous propose donc de tous nous retrouver, anciens et nouveaux arrivants, pour fêter ce début d'année tous ensemble. \n\nRendez-vous au bar le Gainsbourg le 27 Février à partir de 19h.\n\nEn espérant vous y voir nombreux.\nAntoine
BEGIN:VALARM
ACTION:DISPLAY
TRIGGER:-PT60M
DESCRIPTION:Afterwork de rentrée - Chapter Zürich
END:VALARM
END:VEVENT
END:VCALENDAR