BEGIN:VCALENDAR
VERSION:2.0
X-WR-TIMEZONE:Europe/Paris
PRODID:-//Audencia//NONSGML v1.0//EN
CALSCALE:GREGORIAN
BEGIN:VEVENT
SUMMARY:Afterwork Fondue au Weinhaus Schneider
DTSTART:20190205T190000
DTEND:20190205T220000
UID:201
DTSTAMP:20260425T223706
LOCATION:Weinhaus Schneider, Sparkassenstr 1, 80331 München
DESCRIPTION:Bonjour à tous,\nl'événement de février sera une soirée fondue.\n\nInscrivez-vous vite afin que je puisse confirmer la réservation.\n\nA bientôt,\nAmandine\n 
BEGIN:VALARM
ACTION:DISPLAY
TRIGGER:-PT60M
DESCRIPTION:Afterwork Fondue au Weinhaus Schneider
END:VALARM
END:VEVENT
END:VCALENDAR