BEGIN:VCALENDAR
VERSION:2.0
X-WR-TIMEZONE:Europe/Paris
PRODID:-//Audencia//NONSGML v1.0//EN
CALSCALE:GREGORIAN
BEGIN:VEVENT
SUMMARY:Lille - Afterwork 8
DTSTART:20190125T190000
DTEND:20190125T220000
UID:199
DTSTAMP:20260425T205722
LOCATION:Lille
DESCRIPTION:Bonjour, \n\nBONNE ANNEE A TOUS ! \nLe prochain Afterwork des Alumni de Lille aura lieu ce vendredi 25 JANVIER 2018, à partir de 19h00, pour se réunir autour d'un verre et échanger nos expériences de diplômés ou étudiants d'Audencia.\nCe sera pour moi le dernier rendez-vous en tant qu'ambassadeur du Chapter Lille, j'espère pouvoir vous saluer ici une dernière fois avant mon départ.\n\nLe lieu : bar LA PEPITE, 12 place Sébastopol 59000 LILLE\n\nCe pub est situé à l'angle de la rue de Poste et de la place Sebastopol, à côté du théâtre Sébastopol et de son parking (pour ceux qui viennent en voiture). A quelques pas du métro République.\n\nPensez à vous inscrire !  Et parlez-en aux autres diplômés de votre entourage !\n\nSi l'horaire de début est un peu trop tôt pour vous, ce n'est pas un souci, venez dès que vous pouvez. Envoyez-moi simplement un SMS que je sache quoi ;)\n\nCédric Foussard - 07.62.14.75.34
BEGIN:VALARM
ACTION:DISPLAY
TRIGGER:-PT60M
DESCRIPTION:Lille - Afterwork 8
END:VALARM
END:VEVENT
END:VCALENDAR