BEGIN:VCALENDAR
VERSION:2.0
X-WR-TIMEZONE:Europe/Paris
PRODID:-//Audencia//NONSGML v1.0//EN
CALSCALE:GREGORIAN
BEGIN:VEVENT
SUMMARY:Afterwork Audencia London 30 January
DTSTART:20190130T190000
DTEND:20190130T210000
UID:198
DTSTAMP:20260425T205955
LOCATION:The Salisbury Pub, 90 St. Martin's Lane, Covent Garden, London, WC2N 4AP
DESCRIPTION:Hello,\n2018 is over... and it seems that 2019 is going to be one hell of a year... I am obviously talking about all the things Audencia Alumni community in London!\nCome to have a drink at the Salisbury Pub near Leicester Square on Wednesday 30th of January and learn about what we have in plan for this year :-)\nAmicalement vôtre,\nTristan
BEGIN:VALARM
ACTION:DISPLAY
TRIGGER:-PT60M
DESCRIPTION:Afterwork Audencia London 30 January
END:VALARM
END:VEVENT
END:VCALENDAR