BEGIN:VCALENDAR
VERSION:2.0
X-WR-TIMEZONE:Europe/Paris
PRODID:-//Audencia//NONSGML v1.0//EN
CALSCALE:GREGORIAN
BEGIN:VEVENT
SUMMARY:Rencontre avec Uwe Supper
DTSTART:20190219T193000
DTEND:20190219T230000
UID:197
DTSTAMP:20260425T205855
LOCATION:De Bekeerde Suster Kloveniersburgwal 6, 1012 CT Amsterdam
DESCRIPTION:En provenance directe de Nantes, nous avons l'honneur d'accueillir en février à Amsterdam un des professeurs préférés d'Audencia: Uwe Supper.\nUne soirée conviviale s'organise que vous soyez germaniste ou non.\n\nRDV Mardi 19 février à Amsterdam\nà 19h30\nau De Bekeerde Suster (Kloveniersburgwal 6, 1012 CT Amsterdam)
BEGIN:VALARM
ACTION:DISPLAY
TRIGGER:-PT60M
DESCRIPTION:Rencontre avec Uwe Supper
END:VALARM
END:VEVENT
END:VCALENDAR