BEGIN:VCALENDAR
VERSION:2.0
X-WR-TIMEZONE:Europe/Paris
PRODID:-//Audencia//NONSGML v1.0//EN
CALSCALE:GREGORIAN
BEGIN:VEVENT
SUMMARY:Lyon - Afterwork au Bowling du 8ème
DTSTART:20190131T200000
DTEND:20190131T230000
UID:196
DTSTAMP:20260425T205735
LOCATION:Bowlingstar 60 Rue Marius Berliet, 69008 Lyon
DESCRIPTION:Salut à tous,\n\nSuite au sondage réalisé sur le groupe Facebook : https://www.facebook.com/groups/2113208685673782/,\nle prochain Afterwork du Chapter Lyon aura lieu à Bowlingstar dans le 8ème :\n60 Rue Marius Berliet, 69008 Lyon.\n\n2 pistes ont été réservées pour le jeudi 31 janvier à 20h.\nLa partie coûte 5,50 € (chaussures incluses).\nVenez rencontrer le réseau dans un cadre détendu et fun !\n\nA bientôt !\n\nMana MI YOU
BEGIN:VALARM
ACTION:DISPLAY
TRIGGER:-PT60M
DESCRIPTION:Lyon - Afterwork au Bowling du 8ème
END:VALARM
END:VEVENT
END:VCALENDAR