BEGIN:VCALENDAR
VERSION:2.0
X-WR-TIMEZONE:Europe/Paris
PRODID:-//Audencia//NONSGML v1.0//EN
CALSCALE:GREGORIAN
BEGIN:VEVENT
SUMMARY:Raclette de nouvelle année
DTSTART:20190117T200000
DTEND:20190117T230000
UID:195
DTSTAMP:20260425T210026
LOCATION:Bistrot des Alpes Utrechtsedwarsstraat 141 1017WE AMSTERDAM
DESCRIPTION:Merci de vos réponses sur Doodle, la date a enfin été choisie:\nRetrouvons-nous le jeudi 17 janvier pour une raclette de rentrée à 20h au Bistrot des Alpes:\nUtrechtsedwarsstraat 141\n1017WE AMSTERDAM\n\nPour l'instant 10 personnes ont confirmé, merci de me prévenir si vous ne figurez pas dans la liste ci-dessous:\nOlivia, Louis, Yoann, Léa, David, Xuan, Inchela, Clément, Manon
BEGIN:VALARM
ACTION:DISPLAY
TRIGGER:-PT60M
DESCRIPTION:Raclette de nouvelle année
END:VALARM
END:VEVENT
END:VCALENDAR