BEGIN:VCALENDAR
VERSION:2.0
X-WR-TIMEZONE:Europe/Paris
PRODID:-//Audencia//NONSGML v1.0//EN
CALSCALE:GREGORIAN
BEGIN:VEVENT
SUMMARY:[Audencia Alumni Dublin] Afterwork with Audencia Learning Expedition - Wed 30th Jan
DTSTART:20190130T183000
DTEND:20190130T223000
UID:194
DTSTAMP:20260425T210009
LOCATION:Dublin
DESCRIPTION:Good morning everyone,\n\nFirst of all, I'd like to wish you all a very happy new year, filled with happiness and successes both professionally and personally !\n\nI'd also like to take this opportunity to apologize for putting my role as your Alumni Ambassador aside in 2018, a crazy year fro me but nonetheless, I should have been much more proactive on this front.\n\nWith that in mind, new year come with new resolutions and I'd like to invite you all to our first Audencia Alumni Afterwork of 2019, which will take place on Wednesday, January 30th. Very much as last year, we will host a group of Audencia students coming to Dublin on Learning Expedition of the Tech environment, so they will be plenty of occasion to meet and chat during the evening. Could you please let me know if you'd like to attend by filling-in this form (https://goo.gl/forms/cm51TUe1BMZxb88m1) by Friday January 25th EOD, so I can then book a venue ? Said venue will be communicated closer to the event.\n\nThanks and looking forward to seeing you all on January 30th !\n\nBest,\nBrice\nYour Audencia Alumni Ambassador for Dublin
BEGIN:VALARM
ACTION:DISPLAY
TRIGGER:-PT60M
DESCRIPTION:[Audencia Alumni Dublin] Afterwork with Audencia Learning Expedition - Wed 30th Jan
END:VALARM
END:VEVENT
END:VCALENDAR