BEGIN:VCALENDAR
VERSION:2.0
X-WR-TIMEZONE:Europe/Paris
PRODID:-//Audencia//NONSGML v1.0//EN
CALSCALE:GREGORIAN
BEGIN:VEVENT
SUMMARY:Afterwork à Genève - Pour fêter la nouvelle année 2019!
DTSTART:20190124T183000
DTEND:20190124T235900
UID:193
DTSTAMP:20260425T210051
LOCATION:Quai du Mont-Blanc, 19 - Genève
DESCRIPTION:Bonjour à toutes et à tous,\n \nNous vous proposons de se retrouver en début d'année pour:\n- un After au Floor 2 (Quai de Mont Blanc, 19 - Genève) à partir de 18h30,\n- et pour ceux qui le souhaitent, continuer avec la fameuse fondue aux Bains des Pâquis (Quai du Mont Blanc, 30 - Genève) à partir de 20h15.\n \nMerci de vous inscrire sur Together pour que nous réservions.\n\nNous vous souhaitons à toutes et à tous de belles fêtes de fin d'année et nous réjouissons de vous revoir en pleine forme en Janvier!\n\n 
BEGIN:VALARM
ACTION:DISPLAY
TRIGGER:-PT60M
DESCRIPTION:Afterwork à Genève - Pour fêter la nouvelle année 2019!
END:VALARM
END:VEVENT
END:VCALENDAR