BEGIN:VCALENDAR
VERSION:2.0
X-WR-TIMEZONE:Europe/Paris
PRODID:-//Audencia//NONSGML v1.0//EN
CALSCALE:GREGORIAN
BEGIN:VEVENT
SUMMARY:Holiday party!
DTSTART:20181220T190000
DTEND:20181220T220000
UID:192
DTSTAMP:20260425T205718
LOCATION:424 Clay street, San Francisco, CA
DESCRIPTION:Hello\nLet's get together before the end of the year for a holiday party!\nFish&Farm\n424 Clay street, San Francisco\n7:00PM\n\nWe will add some fun and Holiday spirit with a small gift exchange: theme "Welcome". Free interpretation! Make it fun, serious or "ugly"!\n(If you cannot do it, no worries, just let me know and come to the dinner)\nSee you soon!
BEGIN:VALARM
ACTION:DISPLAY
TRIGGER:-PT60M
DESCRIPTION:Holiday party!
END:VALARM
END:VEVENT
END:VCALENDAR