BEGIN:VCALENDAR
VERSION:2.0
X-WR-TIMEZONE:Europe/Paris
PRODID:-//Audencia//NONSGML v1.0//EN
CALSCALE:GREGORIAN
BEGIN:VEVENT
SUMMARY:Galette des rois dans la Boulangerie de Claude Petit-Jean
DTSTART:20190112T140000
DTEND:20190112T170000
UID:191
DTSTAMP:20260425T205722
LOCATION:Boulangerie "Claude et Julien", Elsässerstr. 25 (près de Ostbahnhof)
DESCRIPTION:Bonjour à tous,\n\nje vous invite à partager une galette des rois pour fêter la nouvelle année dans la Boulangerie de Claude, près de Ostbahnhof, le samedi 12 janvier - une fois n' est pas coutume, un samedi :-)\n\nInscrivez-vous vite pour que nous puissions prévoir les quantités de galettes et cidre.\n\nMerci de faire passer le mot aux nouveaux arrivants début 2019. Plus on est de fous...\n\nA bientôt,\nAmandine\n\n 
BEGIN:VALARM
ACTION:DISPLAY
TRIGGER:-PT60M
DESCRIPTION:Galette des rois dans la Boulangerie de Claude Petit-Jean
END:VALARM
END:VEVENT
END:VCALENDAR