BEGIN:VCALENDAR
VERSION:2.0
X-WR-TIMEZONE:Europe/Paris
PRODID:-//Audencia//NONSGML v1.0//EN
CALSCALE:GREGORIAN
BEGIN:VEVENT
SUMMARY:HOLIDAY DINNER
DTSTART:20181212T190000
DTEND:20181212T220000
UID:190
DTSTAMP:20260425T205906
LOCATION:NY - EXACT PLACE TBD
DESCRIPTION:SAVE THE DATE NY HOLIDAY DINNER \nPLEASE CONFIRM YOUR PARTICIPATION BY DECEMBER 3RD.\n\nPLACE TBD\n\n 
BEGIN:VALARM
ACTION:DISPLAY
TRIGGER:-PT60M
DESCRIPTION:HOLIDAY DINNER
END:VALARM
END:VEVENT
END:VCALENDAR