BEGIN:VCALENDAR
VERSION:2.0
X-WR-TIMEZONE:Europe/Paris
PRODID:-//Audencia//NONSGML v1.0//EN
CALSCALE:GREGORIAN
BEGIN:VEVENT
SUMMARY:Lancement du Club le 20 mars 2017 : présentation du club et photos
DTSTART:20170324T190000
DTEND:20170324T200000
UID:19
DTSTAMP:20260425T205737
LOCATION:Audencia Nantes
DESCRIPTION:Découvrez les photos souvenirs de notre soirée de lancement du club!
BEGIN:VALARM
ACTION:DISPLAY
TRIGGER:-PT60M
DESCRIPTION:Lancement du Club le 20 mars 2017 : présentation du club et photos
END:VALARM
END:VEVENT
END:VCALENDAR