BEGIN:VCALENDAR
VERSION:2.0
X-WR-TIMEZONE:Europe/Paris
PRODID:-//Audencia//NONSGML v1.0//EN
CALSCALE:GREGORIAN
BEGIN:VEVENT
SUMMARY:Meet & Greet the Startups ! Lancement du Prix Start-up en Scène, saison 4 !
DTSTART:20181205T190000
DTEND:20181205T230000
UID:189
DTSTAMP:20260425T205848
LOCATION:Théâtre du Gymnase Marie Bell, 38, boulevard de Bonne Nouvelle, 75010 Paris
DESCRIPTION:Evénement payant, inscriptions ici : https://www.culture-et-management.com/debats/meet_and_greet_the_start_ups.html\n\nQui sont les lauréats des saisons précédentes du Prix Start-up en Scène ? Que sont-ils devenus ? Comment ont-ils grandi ? \n\nVenez le découvrir le 5 décembre prochain à 19h au Théâtre du Gymnase Marie Bell lors d'une soirée festive !\n\nChers amis audenciens, comme vous le savez, le Club Culture & Management organise depuis trois ans le Prix Start-up en Scènes qui réunit chaque saison plus de 50 start-ups candidates des secteurs du Cinéma/ Audiovisuel, de l'Edition/ Presse, de la Musique, des Beaux-Arts/ Patrimoine et du Spectacle vivant.\nDans le cadre du lancement de la nouvelle saison du Prix, dont Audencia est partenaire, nous vous proposons de rencontrer plusieurs de nos lauréats et candidats des éditions passées lors d'une soirée festive.\nNous en profiterons pour vous faire part des nombreuses surprises de la nouvelle édition, qui s'annonce grandiose ! Alors réservez votre soirée du 5 décembre, on compte sur vous !\n\n\nIntervenants : \n- Marion Carré, Ask Mona, Fondatrice\n- Clothilde Chalot, Nomad Musique, Directrice Générale\n- Ludovic Bordes, Arenametrix, Directeur général et co-fondateur\n\nModératrice : Julia Strauss, Consultante indépendante stratégie marketing et communication, Présidente C&M\n\nRappels :\n- la soirée commence à 19h, l'accueil se fait à partir de 18h30.\n- la soirée aura lieu au 38 boulevard Bonne Nouvelle 75010 Paris\n- pour le règlement sur place, la CB n'est pas acceptée, mais vous - - pouvez régler par chèque ou en espèces.\n- tarif unique à 30€ (boisson et buffet inclus)
BEGIN:VALARM
ACTION:DISPLAY
TRIGGER:-PT60M
DESCRIPTION:Meet & Greet the Startups ! Lancement du Prix Start-up en Scène, saison 4 !
END:VALARM
END:VEVENT
END:VCALENDAR