BEGIN:VCALENDAR
VERSION:2.0
X-WR-TIMEZONE:Europe/Paris
PRODID:-//Audencia//NONSGML v1.0//EN
CALSCALE:GREGORIAN
BEGIN:VEVENT
SUMMARY:Alumni London Christmas Drinks
DTSTART:20181213T190000
DTEND:20181213T210000
UID:188
DTSTAMP:20260425T205903
LOCATION:Bar Américain, Brasserie Zédel,  20 Sherwood St, Soho, London W1F 7ED
DESCRIPTION:Audencia Alumni & friends,\n\nBefore we all head home (or not) to celebrate Christmas with our respective families (or not)... Let's have a few drinks at the Bar Américain of Brasserie Zédel on Thursday 13 December and reflect on 2018...\n\nAmicalement vôtre,\n\nTristan Pelloux
BEGIN:VALARM
ACTION:DISPLAY
TRIGGER:-PT60M
DESCRIPTION:Alumni London Christmas Drinks
END:VALARM
END:VEVENT
END:VCALENDAR