BEGIN:VCALENDAR
VERSION:2.0
X-WR-TIMEZONE:Europe/Paris
PRODID:-//Audencia//NONSGML v1.0//EN
CALSCALE:GREGORIAN
BEGIN:VEVENT
SUMMARY:Raclette de Noel
DTSTART:20181212T190000
DTEND:20181212T230000
UID:187
DTSTAMP:20260425T205951
LOCATION:Fondue & Fondue Overtoom 415 1054 JR Amsterdam
DESCRIPTION:Afin de se préparer à affronter le froid de l'hiver, venez vous réchauffer autour d'une specialité savoyarde bien connue!\n\nRDV le mercredi 12 decembre a 19h30 a Fondue&Fondue Overtoom 415\n\nÀ bientot!
BEGIN:VALARM
ACTION:DISPLAY
TRIGGER:-PT60M
DESCRIPTION:Raclette de Noel
END:VALARM
END:VEVENT
END:VCALENDAR