BEGIN:VCALENDAR
VERSION:2.0
X-WR-TIMEZONE:Europe/Paris
PRODID:-//Audencia//NONSGML v1.0//EN
CALSCALE:GREGORIAN
BEGIN:VEVENT
SUMMARY:Marché de Noël 2019 - Residenz (Odeonsplatz)
DTSTART:20181203T180000
DTEND:20181203T210000
UID:185
DTSTAMP:20260425T205841
LOCATION:München Residenz (Odeonsplatz)
DESCRIPTION:Cette fois-ci nous nous retrouverons autour d´un vin chaud pour un afterwork au marché de Noël à Residenz.\nPoint de RDV: devant l'entrée du marché de Noël.\n\nNe soyez pas en retard, car il ferme à 21h pile.\n\n\nMerci de prévenir les nouveaux arrivants.\nInscrivez-vous vite! En-dessous de 5 inscrits, l'événement sera annulé.\n\nA bientôt,\nAmandine
BEGIN:VALARM
ACTION:DISPLAY
TRIGGER:-PT60M
DESCRIPTION:Marché de Noël 2019 - Residenz (Odeonsplatz)
END:VALARM
END:VEVENT
END:VCALENDAR