BEGIN:VCALENDAR
VERSION:2.0
X-WR-TIMEZONE:Europe/Paris
PRODID:-//Audencia//NONSGML v1.0//EN
CALSCALE:GREGORIAN
BEGIN:VEVENT
SUMMARY:Afterwork Audencia London 08 November
DTSTART:20181108T180000
DTEND:20181108T210000
UID:184
DTSTAMP:20260425T210007
LOCATION:Bar Kick, 127 Shoreditch High Street, London E1 6JE
DESCRIPTION:Hello,\n \n\nLet's meet again at the Bar Kick in the super trendy borough of Shoreditch to have some drinks, and play some very French 'baby foot'! As usual, a football table is reserved for us.\n\nSee you all very soon.\n\nAmicalement vôtre,\n\nTristan
BEGIN:VALARM
ACTION:DISPLAY
TRIGGER:-PT60M
DESCRIPTION:Afterwork Audencia London 08 November
END:VALARM
END:VEVENT
END:VCALENDAR