BEGIN:VCALENDAR
VERSION:2.0
X-WR-TIMEZONE:Europe/Paris
PRODID:-//Audencia//NONSGML v1.0//EN
CALSCALE:GREGORIAN
BEGIN:VEVENT
SUMMARY:Afterwork Audencia Culture et Management Paris
DTSTART:20181024T193000
DTEND:20181024T223000
UID:183
DTSTAMP:20260425T205735
LOCATION:Bar l'Ivress 5 rue poissonnière, 75002 Paris
DESCRIPTION:Ca fait déjà un petit moment depuis la rentrée !\nOn vous propose de profiter d'un petit verre pour rattraper le temps perdu, fêter l'automne et rencontrer de nouvelles têtes !
BEGIN:VALARM
ACTION:DISPLAY
TRIGGER:-PT60M
DESCRIPTION:Afterwork Audencia Culture et Management Paris
END:VALARM
END:VEVENT
END:VCALENDAR