BEGIN:VCALENDAR
VERSION:2.0
X-WR-TIMEZONE:Europe/Paris
PRODID:-//Audencia//NONSGML v1.0//EN
CALSCALE:GREGORIAN
BEGIN:VEVENT
SUMMARY:Lille - Afterwork 7
DTSTART:20181108T190000
DTEND:20181108T220000
UID:182
DTSTAMP:20260425T205818
LOCATION:The Queen Victoria 161 Rue Solférino, 59000 Lille
DESCRIPTION:Bonjour à tous, \n\nLe temps passe et je manque à mes devoirs d'ambassadeur... Mais le voici :\nLe prochain Afterwork des Alumni de Lille aura lieu le jeudi 8 NOVEMBRE 2018, à partir de 19h00, pour se réunir autour d'un verre et échanger nos expériences de diplômés ou étudiants d'Audencia.\nC'est dans 1 mois, au retour des vacances de Toussaints, j'espère que cela vous laisse assez de temps pour noter l'évènement dans votre agenda !\n\nLe lieu ne change pas : Pub THE QUEEN VICTORIA, 161 rue Solférino 59000 LILLE\n\nCe pub est situé à l'angle de la rue Inkermann et de la rue Solférino, juste en face du théâtre Sébastopol et de son parking (pour ceux qui viennent en voiture). A quelques pas du métro République.\n\nPensez à vous inscrire !  Et parlez-en aux autres diplômés du coin !\n\nSi l'horaire de début est un peu trop tôt pour vous, ce n'est pas un souci, venez dès que vous pouvez. Envoyez-moi simplement un SMS que je sache quoi ;)\n\nCédric Foussard - 07.62.14.75.34
BEGIN:VALARM
ACTION:DISPLAY
TRIGGER:-PT60M
DESCRIPTION:Lille - Afterwork 7
END:VALARM
END:VEVENT
END:VCALENDAR