BEGIN:VCALENDAR
VERSION:2.0
X-WR-TIMEZONE:Europe/Paris
PRODID:-//Audencia//NONSGML v1.0//EN
CALSCALE:GREGORIAN
BEGIN:VEVENT
SUMMARY:Industries Culturelles et Créatives, la France sur le podium de l'exportation !
DTSTART:20181010T190000
DTEND:20181010T220000
UID:181
DTSTAMP:20260425T205848
LOCATION:Hôtel de l'Industrie, 4 Place Saint-Germain des Prés, 75006 Paris : http://www.industrienationale.fr/lho%CC%82tel-de-lindustrie/
DESCRIPTION:ATTENTION EVENEMENT PAYANT ! INSCRIPTIONS ICI : https://www.culture-et-management.com/debats/international_industries_culturelles_et_creatives_la_france_sur_le_podium_de_l_exportation.html\n\nSa créativité, l’organisation de son exception culturelle, ses artistes mais aussi ses entreprises ont fait de la France la championne de la culture mondiale.\n\nSi les États-Unis, par leur histoire, leur consommation dopée par la croissance numérique, restent le numéro 1 incontesté, la France se place en 2ème exportateur mondial pour le cinéma et les jeux vidéo. La musique, 2ème répertoire mondial, a aussi ses stars, comme Alexandre Desplat, deux fois oscarisé !\n\nQui sont les acteurs de cette conquête ? Quelles sont les clefs du succès ? Comment gérer son internationalisation ?\n\nVenez en débattre mercredi 10 octobre à 19h à l'Hôtel de l'Industrie ! Et réservez votre place dès maintenant : https://www.culture-et-management.com/debats/international_industries_culturelles_et_creatives_la_france_sur_le_podium_de_l_exportation.html\n\nIntervenants :\nAgathe BASQUIN, Chargée de mission Culture & Media, Ministère de l'Europe et des affaires étrangères\nFrédéric BEREYZIAT, Directeur général adjoint, UniFrance\nRomain LALEIX, Secrétaire général, Le Bureau Export\n\nNe ratez pas ce débat, mercredi 10 octobre à 19h\nHôtel de l'industrie\n4 Place Saint-Germain des Prés, 75006 Paris
BEGIN:VALARM
ACTION:DISPLAY
TRIGGER:-PT60M
DESCRIPTION:Industries Culturelles et Créatives, la France sur le podium de l'exportation !
END:VALARM
END:VEVENT
END:VCALENDAR